BEGIN:VCALENDAR
VERSION:2.0
PRODID:-//YV5RVC EN - ECPv6.15.11//NONSGML v1.0//EN
CALSCALE:GREGORIAN
METHOD:PUBLISH
X-WR-CALNAME:YV5RVC EN
X-ORIGINAL-URL:https://en.yv5rvc.com
X-WR-CALDESC:Events for YV5RVC EN
REFRESH-INTERVAL;VALUE=DURATION:PT1H
X-Robots-Tag:noindex
X-PUBLISHED-TTL:PT1H
BEGIN:VTIMEZONE
TZID:America/Caracas
BEGIN:STANDARD
TZOFFSETFROM:-0400
TZOFFSETTO:-0400
TZNAME:-04
DTSTART:20230101T000000
END:STANDARD
END:VTIMEZONE
BEGIN:VEVENT
DTSTART;TZID=America/Caracas:20241018T080000
DTEND;TZID=America/Caracas:20241020T170000
DTSTAMP:20260423T160558
CREATED:20240928T002057Z
LAST-MODIFIED:20240928T002133Z
UID:2531-1729238400-1729443600@en.yv5rvc.com
SUMMARY:Jota-Joti 2024
DESCRIPTION:JOTA-JOTI is the world’s largest digital Scout event taking place online and over the air. The educational event brings together more than 2 million Scouts every year in October for a weekend of Scouting and friendship. \nYoung people can learn about communications technology and connect with fellow Scouts from over 174 countries.
URL:https://en.yv5rvc.com/event/jota-joti-2024/
LOCATION:Campo Escuela Nacional Quiripital\, Los Teques\, Miranda\, Venezuela
CATEGORIES:Activations
ATTACH;FMTTYPE=image/jpeg:https://en.yv5rvc.com/wp-content/uploads/2024/09/jota-joti-2024.jpg
ORGANIZER;CN="Radio Club Venezolano":MAILTO:yv5rcv@gmail.com
END:VEVENT
BEGIN:VEVENT
DTSTART;TZID=America/Caracas:20241005T080000
DTEND;TZID=America/Caracas:20241109T080000
DTSTAMP:20260423T160558
CREATED:20240919T123032Z
LAST-MODIFIED:20240919T150653Z
UID:1534-1728115200-1731139200@en.yv5rvc.com
SUMMARY:4th Course for Radio Amateurs RVC 2024
DESCRIPTION:Modality: In person. \nRegistration via email: cursos.dercv@gmail.com \nMore information on the website of the Venezuelan Radio Club
URL:https://en.yv5rvc.com/event/4th-course-for-radio-amateurs-rvc-2024/
LOCATION:Radio Club Venezolano National Headquarters\, Av. La Salle con calle Lima\, Urb. Los Caobos.\, Caracas\, Distrito Capital\, PO. Box 2285\, Venezuela
CATEGORIES:Courses
ATTACH;FMTTYPE=image/jpeg:https://en.yv5rvc.com/wp-content/uploads/2023/11/IMG-20240918-WA0056.jpg
ORGANIZER;CN="Radio Club Venezolano":MAILTO:yv5rcv@gmail.com
END:VEVENT
BEGIN:VEVENT
DTSTART;TZID=America/Caracas:20240803T080000
DTEND;TZID=America/Caracas:20240803T163000
DTSTAMP:20260423T160558
CREATED:20240627T184353Z
LAST-MODIFIED:20240712T011907Z
UID:2392-1722672000-1722702600@en.yv5rvc.com
SUMMARY:3rd Course for Radio Amateurs RCV 2024
DESCRIPTION:Registration via email: cursos.dercv@gmail.com \nMore information on the website of the Venezuelan Radio Club
URL:https://en.yv5rvc.com/event/3rd-course-for-radio-amateurs-rcv-2024/
LOCATION:Radio Club Venezolano National Headquarters\, Av. La Salle con calle Lima\, Urb. Los Caobos.\, Caracas\, Distrito Capital\, PO. Box 2285\, Venezuela
CATEGORIES:Courses
ATTACH;FMTTYPE=image/jpeg:https://en.yv5rvc.com/wp-content/uploads/2024/06/3er-curso.ra.rcv_.jpg
ORGANIZER;CN="Radio Club Venezolano":MAILTO:yv5rcv@gmail.com
END:VEVENT
BEGIN:VEVENT
DTSTART;TZID=America/Caracas:20240705T200000
DTEND;TZID=America/Caracas:20240706T195900
DTSTAMP:20260423T160558
CREATED:20230527T143039Z
LAST-MODIFIED:20240627T185403Z
UID:795-1720209600-1720295940@en.yv5rvc.com
SUMMARY:Venezuela Independence International Contest 2024
DESCRIPTION:2024 EDITION \nTo commemorate the 214th Anniversary of the signing of the Venezuelan Independence Act\, the Radio Club Venezolano sponsors the VENEZUELA INDEPENDENCE Contest. This contest is a “worldwide” type\, so it should not be limited to working only with Venezuelan stations (YV\, YW\, YX\, YY\, and 4M). \nBands: 10\, 15\, 20\, 40 y 80 mts. \nModes: SSB\, CW and FT4. \nCategories: \n\nSingle Band Single Operator\nMultiband Single Operator\nMulti-operator Multi-band (only one transmitter)\, only Mixed\nSWL (radio listener) multiband\, only Mixed.\n\nDuration: 24 hours. \nStart: Saturday\, July 6 at 00:00 U.T.C.\nEnd: Saturday\, July 6 at 23:59 U.T.C.
URL:https://en.yv5rvc.com/event/venezuela-independence-international-contest-2024/
LOCATION:Miranda
CATEGORIES:International Contests
ATTACH;FMTTYPE=image/jpeg:https://en.yv5rvc.com/wp-content/uploads/2023/05/concurso-independencia-vzla-2024.jpg
ORGANIZER;CN="Radio Club Venezolano":MAILTO:yv5rcv@gmail.com
END:VEVENT
END:VCALENDAR